Workbook

Sheet TRV
A1: TRV - 2011 MPB Update
A2: Area (ha) of MPB Attack Severity by Age Class and Density within Pine Stands (Pine Species >= 30% density - The Pine Mask)
A3: TSA Area | B3: 1458548.4
A4: Pine Mask Unharvested Area | B4: =SUM(data!D2:D200) -> 109203.57
A6: MPB Attack as a percentage of Pine affected within the VRI Stand
A8: MPB Attack Severity
C9: Light (<11%) | E9: Moderate (11-30%) | G9: Severe (31-50%) | I9: Very Severe (>50%) | K9: All Severity | M9: No Attack
A10: Age Class | B10: Pine Density | C10: Area (ha) | D10: Percent of all Pine (Pine Mask) | E10: Area (ha) | F10: Percent of all Pine (Pine Mask) | G10: Area (ha) | H10: Percent of all Pine (Pine Mask) | I10: Area (ha) | J10: Percent of all Pine (Pine Mask) | K10: Total Area of Attack (ha) | L10: Percent of all Pine (Pine Mask) | M10: Area (ha) | N10: Percent of all Pine (Pine Mask)
A11: 21-40 years | B11: 30-70% | C11: {=SUM(IF(data!A2:A200="21-40 years",IF(data!B2:B200="30-70%",IF(data!C2:C200="Light (<11%)",data!D2:D200,0),0),0))} -> 384.55103 | D11: =C11/($K$20+$M$20) -> 0.0035905045 | E11: {=SUM(IF(data!A2:A200="21-40 years",IF(data!B2:B200="30-70%",IF(data!C2:C200="Moderate (11-30%)",data!D2:D200,0),0),0))} -> 253.41341 | F11: =E11/($K$20+$M$20) -> 0.0023660891 | G11: {=SUM(IF(data!A2:A200="21-40 years",IF(data!B2:B200="30-70%",IF(data!C2:C200="Severe (31-50%)",data!D2:D200,0),0),0))} -> 328.55251 | H11: =G11/($K$20+$M$20) -> 0.0030676534 | I11: {=SUM(IF(data!A2:A200="21-40 years",IF(data!B2:B200="30-70%",IF(data!C2:C200="Very Severe (>50%)",data!D2:D200,0),0),0))} -> 821.56728 | J11: =I11/($K$20+$M$20) -> 0.0076708701 | K11: =SUM(C11,E11,G11,I11) -> 1788.0842 | L11: =K11/($K$20+$M$20) -> 0.016695117 | M11: {=SUM(IF(data!A2:A200="21-40 years",IF(data!B2:B200="30-70%",IF(data!C2:C200="No Attack",data!D2:D200,0),0),0))} -> 1822.3645 | N11: =M11/($K$20+$M$20) -> 0.017015188
B12: >70% | C12: {=SUM(IF(data!A2:A200="21-40 years",IF(data!B2:B200=">70%",IF(data!C2:C200="Light (<11%)",data!D2:D200,0),0),0))} -> 196.68705 | D12: =C12/($K$20+$M$20) -> 0.0018364422 | E12: {=SUM(IF(data!A2:A200="21-40 years",IF(data!B2:B200=">70%",IF(data!C2:C200="Moderate (11-30%)",data!D2:D200,0),0),0))} -> 310.48248 | F12: =E12/($K$20+$M$20) -> 0.0028989358 | G12: {=SUM(IF(data!A2:A200="21-40 years",IF(data!B2:B200=">70%",IF(data!C2:C200="Severe (31-50%)",data!D2:D200,0),0),0))} -> 221.74445 | H12: =G12/($K$20+$M$20) -> 0.0020704 | I12: {=SUM(IF(data!A2:A200="21-40 years",IF(data!B2:B200=">70%",IF(data!C2:C200="Very Severe (>50%)",data!D2:D200,0),0),0))} -> 866.85924 | J12: =I12/($K$20+$M$20) -> 0.0080937555 | K12: =SUM(C12,E12,G12,I12) -> 1595.7732 | L12: =K12/($K$20+$M$20) -> 0.014899533 | M12: {=SUM(IF(data!A2:A200="21-40 years",IF(data!B2:B200=">70%",IF(data!C2:C200="No Attack",data!D2:D200,0),0),0))} -> 1051.2325 | N12: =M12/($K$20+$M$20) -> 0.0098152249
A14: 41-60 years | B14: 30-70% | C14: {=SUM(IF(data!A2:A200="41-60 years",IF(data!B2:B200="30-70%",IF(data!C2:C200="Light (<11%)",data!D2:D200,0),0),0))} -> 362.01261 | D14: =C14/($K$20+$M$20) -> 0.0033800661 | E14: {=SUM(IF(data!A2:A200="41-60 years",IF(data!B2:B200="30-70%",IF(data!C2:C200="Moderate (11-30%)",data!D2:D200,0),0),0))} -> 200.02195 | F14: =E14/($K$20+$M$20) -> 0.0018675797 | G14: {=SUM(IF(data!A2:A200="41-60 years",IF(data!B2:B200="30-70%",IF(data!C2:C200="Severe (31-50%)",data!D2:D200,0),0),0))} -> 452.70758 | H14: =G14/($K$20+$M$20) -> 0.0042268736 | I14: {=SUM(IF(data!A2:A200="41-60 years",IF(data!B2:B200="30-70%",IF(data!C2:C200="Very Severe (>50%)",data!D2:D200,0),0),0))} -> 619.75404 | J14: =I14/($K$20+$M$20) -> 0.0057865653 | K14: =SUM(C14,E14,G14,I14) -> 1634.4962 | L14: =K14/($K$20+$M$20) -> 0.015261085 | M14: {=SUM(IF(data!A2:A200="41-60 years",IF(data!B2:B200="30-70%",IF(data!C2:C200="No Attack",data!D2:D200,0),0),0))} -> 1120.9014 | N14: =M14/($K$20+$M$20) -> 0.010465715
B15: >70% | C15: {=SUM(IF(data!A2:A200="41-60 years",IF(data!B2:B200=">70%",IF(data!C2:C200="Light (<11%)",data!D2:D200,0),0),0))} -> 167.03229 | D15: =C15/($K$20+$M$20) -> 0.0015595594 | E15: {=SUM(IF(data!A2:A200="41-60 years",IF(data!B2:B200=">70%",IF(data!C2:C200="Moderate (11-30%)",data!D2:D200,0),0),0))} -> 184.7631 | F15: =E15/($K$20+$M$20) -> 0.0017251097 | G15: {=SUM(IF(data!A2:A200="41-60 years",IF(data!B2:B200=">70%",IF(data!C2:C200="Severe (31-50%)",data!D2:D200,0),0),0))} -> 212.60913 | H15: =G15/($K$20+$M$20) -> 0.0019851046 | I15: {=SUM(IF(data!A2:A200="41-60 years",IF(data!B2:B200=">70%",IF(data!C2:C200="Very Severe (>50%)",data!D2:D200,0),0),0))} -> 1526.9538 | J15: =I15/($K$20+$M$20) -> 0.014256975 | K15: =SUM(C15,E15,G15,I15) -> 2091.3583 | L15: =K15/($K$20+$M$20) -> 0.019526749 | M15: {=SUM(IF(data!A2:A200="41-60 years",IF(data!B2:B200=">70%",IF(data!C2:C200="No Attack",data!D2:D200,0),0),0))} -> 528.71121 | N15: =M15/($K$20+$M$20) -> 0.0049365099
A17: >60 years | B17: 30-70% | C17: {=SUM(IF(data!A2:A200=">60 years",IF(data!B2:B200="30-70%",IF(data!C2:C200="Light (<11%)",data!D2:D200,0),0),0))} -> 2234.0113 | D17: =C17/($K$20+$M$20) -> 0.020858682 | E17: {=SUM(IF(data!A2:A200=">60 years",IF(data!B2:B200="30-70%",IF(data!C2:C200="Moderate (11-30%)",data!D2:D200,0),0),0))} -> 2896.6287 | F17: =E17/($K$20+$M$20) -> 0.027045457 | G17: {=SUM(IF(data!A2:A200=">60 years",IF(data!B2:B200="30-70%",IF(data!C2:C200="Severe (31-50%)",data!D2:D200,0),0),0))} -> 3581.7796 | H17: =G17/($K$20+$M$20) -> 0.033442624 | I17: {=SUM(IF(data!A2:A200=">60 years",IF(data!B2:B200="30-70%",IF(data!C2:C200="Very Severe (>50%)",data!D2:D200,0),0),0))} -> 26748.186 | J17: =I17/($K$20+$M$20) -> 0.24974444 | K17: =SUM(C17,E17,G17,I17) -> 35460.606 | L17: =K17/($K$20+$M$20) -> 0.3310912 | M17: {=SUM(IF(data!A2:A200=">60 years",IF(data!B2:B200="30-70%",IF(data!C2:C200="No Attack",data!D2:D200,0),0),0))} -> 15656.775 | N17: =M17/($K$20+$M$20) -> 0.14618533
B18: >70% | C18: {=SUM(IF(data!A2:A200=">60 years",IF(data!B2:B200=">70%",IF(data!C2:C200="Light (<11%)",data!D2:D200,0),0),0))} -> 1921.3016 | D18: =C18/($K$20+$M$20) -> 0.017938951 | E18: {=SUM(IF(data!A2:A200=">60 years",IF(data!B2:B200=">70%",IF(data!C2:C200="Moderate (11-30%)",data!D2:D200,0),0),0))} -> 2983.0408 | F18: =E18/($K$20+$M$20) -> 0.027852276 | G18: {=SUM(IF(data!A2:A200=">60 years",IF(data!B2:B200=">70%",IF(data!C2:C200="Severe (31-50%)",data!D2:D200,0),0),0))} -> 3151.6875 | H18: =G18/($K$20+$M$20) -> 0.029426909 | I18: {=SUM(IF(data!A2:A200=">60 years",IF(data!B2:B200=">70%",IF(data!C2:C200="Very Severe (>50%)",data!D2:D200,0),0),0))} -> 27251.567 | J18: =I18/($K$20+$M$20) -> 0.25444444 | K18: =SUM(C18,E18,G18,I18) -> 35307.597 | L18: =K18/($K$20+$M$20) -> 0.32966258 | M18: {=SUM(IF(data!A2:A200=">60 years",IF(data!B2:B200=">70%",IF(data!C2:C200="No Attack",data!D2:D200,0),0),0))} -> 9044.3292 | N18: =M18/($K$20+$M$20) -> 0.084445762
A20: Total | C20: =SUM(C11:C18) -> 5265.5958 | D20: =C20/($K$20+$M$20) -> 0.049164204 | E20: =SUM(E11:E18) -> 6828.3505 | F20: =E20/($K$20+$M$20) -> 0.063755448 | G20: =SUM(G11:G18) -> 7949.0808 | H20: =G20/($K$20+$M$20) -> 0.074219565 | I20: =SUM(I11:I18) -> 57834.887 | J20: =I20/($K$20+$M$20) -> 0.53999705 | K20: =SUM(K11:K18) -> 77877.914 | L20: =SUM(L11:L18) -> 0.72713627 | M20: =SUM(M11:M18) -> 29224.313 | N20: =SUM(N11:N18) -> 0.27286373

Sheet data
A1: Age Class | B1: Pine Density | C1: MPB Attack Severity | D1: Sum Of area_ha
A2: <21 years | B2: >70% | C2: Light (<11%) | D2: 22.154188
A3: <21 years | B3: >70% | C3: Moderate (11-30%) | D3: 37.20472
A4: <21 years | B4: >70% | C4: No Attack | D4: 297.14118
A5: <21 years | B5: >70% | C5: No Attack | D5: 23.505879
A6: <21 years | B6: >70% | C6: No Attack | D6: 4.5287578
A7: <21 years | B7: >70% | C7: Severe (31-50%) | D7: 17.844685
A8: <21 years | B8: >70% | C8: Very Severe (>50%) | D8: 8.752146
A9: <21 years | B9: >70% | C9: Very Severe (>50%) | D9: 44.921754
A10: <21 years | B10: 30-70% | C10: Light (<11%) | D10: 12.131967
A11: <21 years | B11: 30-70% | C11: Moderate (11-30%) | D11: 71.199123
A12: <21 years | B12: 30-70% | C12: No Attack | D12: 1337.935
A13: <21 years | B13: 30-70% | C13: No Attack | D13: 63.12366
... A111: 41-60 years | B111: 30-70% | C111: Very Severe (>50%) | D111: 173.66811

Sheet Sheet3
